BEGIN:VCALENDAR
VERSION:2.0
PRODID:-//hacksw/handcal//NONSGML v1.0//EN
CALSCALE:GREGORIAN
BEGIN:VEVENT
SUMMARY:AK Senioren Gruppe Duisburg
DTSTART:20260604T100000Z
DESCRIPTION:Politischer Vormittag
DTEND:20210531T090000Z
LOCATION:DGB-Haus Duisburg Julius-Birck-Saal Stapeltor 17–19 47051 Duisburg
DTSTAMP:20260423T171723Z
UID:69ea3803b396b
END:VEVENT
END:VCALENDAR