BEGIN:VCALENDAR
VERSION:2.0
PRODID:-//hacksw/handcal//NONSGML v1.0//EN
CALSCALE:GREGORIAN
BEGIN:VEVENT
SUMMARY:AK Senioren Gruppe Kleve
DTSTART:20260507T140000Z
DESCRIPTION:Versammlung
DTEND:20210531T090000Z
LOCATION:Haus Riswick\, Elsenpass 5\, 47533 Kleve
DTSTAMP:20260423T171526Z
UID:69ea378e37e52
END:VEVENT
END:VCALENDAR