BEGIN:VCALENDAR
VERSION:2.0
PRODID:-//hacksw/handcal//NONSGML v1.0//EN
CALSCALE:GREGORIAN
BEGIN:VEVENT
SUMMARY:AK Senioren Gruppe Wesel
DTSTART:20260608T150000Z
DESCRIPTION:Versammlung
DTEND:20210531T090000Z
LOCATION:DGB-Haus Wesel\, Poppelbaumstraße 10\, 46483 Wesel
DTSTAMP:20260423T171410Z
UID:69ea3742d0948
END:VEVENT
END:VCALENDAR