BEGIN:VCALENDAR
VERSION:2.0
PRODID:-//hacksw/handcal//NONSGML v1.0//EN
CALSCALE:GREGORIAN
BEGIN:VEVENT
SUMMARY:FG Gebäudereinigerhandwerk mit AK Frauen
DTSTART:20260617T100000Z
DESCRIPTION:Stammtisch
DTEND:20210531T090000Z
LOCATION:DGB-Haus Duisburg Julius-Birck-Saal Stapeltor 17–19 47051 Duisburg
DTSTAMP:20260423T171820Z
UID:69ea383c5d677
END:VEVENT
END:VCALENDAR